BEGIN:VCALENDAR
VERSION:2.0
PRODID:-//CITRIS and the Banatao Institute - ECPv6.15.20//NONSGML v1.0//EN
CALSCALE:GREGORIAN
METHOD:PUBLISH
X-WR-CALNAME:CITRIS and the Banatao Institute
X-ORIGINAL-URL:https://citris-uc.org
X-WR-CALDESC:Events for CITRIS and the Banatao Institute
REFRESH-INTERVAL;VALUE=DURATION:PT1H
X-Robots-Tag:noindex
X-PUBLISHED-TTL:PT1H
BEGIN:VTIMEZONE
TZID:America/Los_Angeles
BEGIN:DAYLIGHT
TZOFFSETFROM:-0800
TZOFFSETTO:-0700
TZNAME:PDT
DTSTART:20230312T100000
END:DAYLIGHT
BEGIN:STANDARD
TZOFFSETFROM:-0700
TZOFFSETTO:-0800
TZNAME:PST
DTSTART:20231105T090000
END:STANDARD
BEGIN:DAYLIGHT
TZOFFSETFROM:-0800
TZOFFSETTO:-0700
TZNAME:PDT
DTSTART:20240310T100000
END:DAYLIGHT
BEGIN:STANDARD
TZOFFSETFROM:-0700
TZOFFSETTO:-0800
TZNAME:PST
DTSTART:20241103T090000
END:STANDARD
BEGIN:DAYLIGHT
TZOFFSETFROM:-0800
TZOFFSETTO:-0700
TZNAME:PDT
DTSTART:20250309T100000
END:DAYLIGHT
BEGIN:STANDARD
TZOFFSETFROM:-0700
TZOFFSETTO:-0800
TZNAME:PST
DTSTART:20251102T090000
END:STANDARD
END:VTIMEZONE
BEGIN:VEVENT
DTSTART;VALUE=DATE:20240624
DTEND;VALUE=DATE:20240629
DTSTAMP:20260425T094007
CREATED:20240322T190744Z
LAST-MODIFIED:20240322T190852Z
UID:48413-1719187200-1719619199@citris-uc.org
SUMMARY:DroneCamp 2024
DESCRIPTION:DroneCamp is a five-day training program that covers everything a researcher needs to know to use drones for mapping and field data collection. Now in its eighth year\, DroneCamp is designed for a wide range of skill levels and interests\, from complete beginners to intermediate users who want to learn more advanced data processing and analysis. Instructors from the University of California — including the UC Santa Cruz CITRIS Initiative for Drone Education and Research — and the California State University systems will provide workshops and hands-on training. No experience is necessary. \nRegister now for DroneCamp 2024! This year’s program will be offered in a hybrid format\, with an in-person audience simultaneously viewing presentations and workshops at CSU Monterey Bay with a live virtual broadcast via Zoom for remote participants.
URL:https://citris-uc.org/event/dronecamp-2024/
LOCATION:Hybrid
ATTACH;FMTTYPE=image/png:https://citris-uc.org/wp-content/uploads/2024/03/2024-dronecamp-banner-1540x368px.png
END:VEVENT
END:VCALENDAR