BEGIN:VCALENDAR
VERSION:2.0
PRODID:-//CITRIS and the Banatao Institute - ECPv6.15.20//NONSGML v1.0//EN
CALSCALE:GREGORIAN
METHOD:PUBLISH
X-WR-CALNAME:CITRIS and the Banatao Institute
X-ORIGINAL-URL:https://citris-uc.org
X-WR-CALDESC:Events for CITRIS and the Banatao Institute
REFRESH-INTERVAL;VALUE=DURATION:PT1H
X-Robots-Tag:noindex
X-PUBLISHED-TTL:PT1H
BEGIN:VTIMEZONE
TZID:America/Los_Angeles
BEGIN:DAYLIGHT
TZOFFSETFROM:-0800
TZOFFSETTO:-0700
TZNAME:PDT
DTSTART:20100314T100000
END:DAYLIGHT
BEGIN:STANDARD
TZOFFSETFROM:-0700
TZOFFSETTO:-0800
TZNAME:PST
DTSTART:20101107T090000
END:STANDARD
BEGIN:DAYLIGHT
TZOFFSETFROM:-0800
TZOFFSETTO:-0700
TZNAME:PDT
DTSTART:20110313T100000
END:DAYLIGHT
BEGIN:STANDARD
TZOFFSETFROM:-0700
TZOFFSETTO:-0800
TZNAME:PST
DTSTART:20111106T090000
END:STANDARD
BEGIN:DAYLIGHT
TZOFFSETFROM:-0800
TZOFFSETTO:-0700
TZNAME:PDT
DTSTART:20120311T100000
END:DAYLIGHT
BEGIN:STANDARD
TZOFFSETFROM:-0700
TZOFFSETTO:-0800
TZNAME:PST
DTSTART:20121104T090000
END:STANDARD
END:VTIMEZONE
BEGIN:VEVENT
DTSTART;TZID=America/Los_Angeles:20110504T080000
DTEND;TZID=America/Los_Angeles:20110504T170000
DTSTAMP:20260425T040227
CREATED:20140202T090101Z
LAST-MODIFIED:20140202T090101Z
UID:4190-1304496000-1304528400@citris-uc.org
SUMMARY:Two Earthquakes in Christchurch\, NZ: Lessons for California\, May 4
DESCRIPTION:UCB’s own professor of architecture\, Mary Comerio\, visited Christchurch\, New Zealand\, after the September 2010 M7.1 earthquake and after its surprisingly damaging February 2011 M6.3 aftershock. She will talk about the tectonic setting of the two earthquakes and why the damage from the smaller one harbors important lessons for California. \n                Since 2003\, the Berkeley Seismological Laboratory has been hosting public lectures\, the Lawson Lectures\, on earthquakes and earthquake science. The lecture series is meant to address a wide variety of earthquake issues of interest to the Berkeley community.
URL:https://citris-uc.org/event/two-earthquakes-in-christchurch-nz-lessons-for-california-may-4/
END:VEVENT
BEGIN:VEVENT
DTSTART;TZID=America/Los_Angeles:20110504T080000
DTEND;TZID=America/Los_Angeles:20110504T170000
DTSTAMP:20260425T040227
CREATED:20140202T090101Z
LAST-MODIFIED:20140202T090101Z
UID:4191-1304496000-1304528400@citris-uc.org
SUMMARY:Regents Lecture\, May 4
DESCRIPTION:Bill Joy\, renowned technologist and partner in leading venture capital firm KPBC’s Greentech Practice\, will share his views on how certain technical innovations will radically transform the energy\, material and chemicals industries. He will also discuss to how to foster such technical innovations\, and the approach his partnership with KPBC has taken by funding game-changing technologies that address the twin problems of climate change and sustainability.
URL:https://citris-uc.org/event/regents-lecture-may-4/
END:VEVENT
BEGIN:VEVENT
DTSTART;TZID=America/Los_Angeles:20110503T080000
DTEND;TZID=America/Los_Angeles:20110503T170000
DTSTAMP:20260425T040227
CREATED:20140202T090101Z
LAST-MODIFIED:20140202T090101Z
UID:4188-1304409600-1304442000@citris-uc.org
SUMMARY:Computer Modeling of Natural and Synthetic Systems\, May 3
DESCRIPTION:Dr. Eng Lim Goh oversees technical computing programs at SGI with the goal to develop the next generation computer architecture for the new many core era. His talk on high performance computing\, storage and visualization applications will draw on examples from numerous fields\, including: \n                * Space: from star formation to black hole evaporation \n                * Earth: simulation of climate change\, tornados\, earthquakes and tsunami \n                * Green technologies: fuel cells\, wind turbines\, and “Fusion for Energy” reactor design \n                * Entertainment: from movies to television \n                * The Web : from Amazon\, ebay\, Yahoo\, Facebook\, YouTube to Microsoft
URL:https://citris-uc.org/event/computer-modeling-of-natural-and-synthetic-systems-may-3/
END:VEVENT
END:VCALENDAR